BEGIN:VCALENDAR
VERSION:2.0
PRODID:-//wp-events-plugin.com//7.2.3.1//EN
TZID:America/Chicago
X-WR-TIMEZONE:America/Chicago
BEGIN:VEVENT
UID:58@safertn.org
DTSTART;TZID=America/Chicago:20251012T120000
DTEND;TZID=America/Chicago:20251012T140000
DTSTAMP:20250908T155407Z
URL:https://safertn.org/events/alyssa-lokits-memorial-walk-dedication-cere
 mony/
SUMMARY:Alyssa Lokits Memorial Walk & Dedication Ceremony
DESCRIPTION:It’s hard to believe Alyssa has been gone for almost an entir
 e year. We cannot let the anniversary of the tragic event that forever cha
 nged our world simply pass us by\, unmarked.\n\nWe will begin this powerfu
 l\, week-long event with the Alyssa Lokits Memorial Walk &amp\; Dedication
  Ceremony\, at noon on October 12.\n\nFamily\, friends\, community leaders
 \, partners and sponsors will gather at the Orchard Bend Parking lot of th
 e Mill Creek Greenway in Antioch\, then walk together to the Old Hickory T
 railhead to honor Alyssa's life and unending impact with a bench dedicatio
 n.\n\nNothing will ever feel like enough—but this is something that feel
 s incredibly meaningful. We would be honored for you to join us.\n\nThere 
 will be a community event to launch the jog-a-thon to follow at Orchard Be
 nd Park with live music\, vendors and food trucks.
ATTACH;FMTTYPE=image/jpeg:https://safertn.org/wp-content/uploads/2025/09/a
 lyssa-lotkis.jpg
CATEGORIES:Attending
LOCATION:Mill Creek Greenway\, 6691 Sunnywood Dr\, Antioch\, United States
GEO:36.012821;-86.690931
X-APPLE-STRUCTURED-LOCATION;VALUE=URI;X-ADDRESS=6691 Sunnywood Dr\, Antioch
 \, United States;X-APPLE-RADIUS=100;X-TITLE=Mill Creek Greenway:geo:36.012
 821,-86.690931
END:VEVENT
BEGIN:VTIMEZONE
TZID:America/Chicago
X-LIC-LOCATION:America/Chicago
BEGIN:DAYLIGHT
DTSTART:20250309T030000
TZOFFSETFROM:-0600
TZOFFSETTO:-0500
TZNAME:CDT
END:DAYLIGHT
END:VTIMEZONE
END:VCALENDAR