BEGIN:VCALENDAR
VERSION:2.0
PRODID:-//wp-events-plugin.com//7.2.3.1//EN
TZID:America/Chicago
X-WR-TIMEZONE:America/Chicago
BEGIN:VEVENT
UID:159@safertn.org
DTSTART;TZID=America/Chicago:20260425T093000
DTEND;TZID=America/Chicago:20260425T123000
DTSTAMP:20260410T160521Z
URL:https://safertn.org/events/baptist-memorial-hospital-for-women-baby-fa
 ir/
SUMMARY:Baptist Memorial Hospital for Women Baby Fair
DESCRIPTION:Baptist Memorial Hospital for Women will host the Beautiful Beg
 innings Baby and Children’s Fair for expecting and new parents. Maternal
  health and newborn experts\, pediatricians\, dentists and others will be 
 on site to discuss health and wellness resources\, share their expertise a
 nd answer questions about pregnancy\, childbirth\, breastfeeding\, pain ma
 nagement\, doula services and child and infant health. Voices for Safer TN
  will participate by giving out free gun locks and firearm safety informat
 ion.\n\n[sc name="2026baptistmemphisbabyfair" ][/sc]
ATTACH;FMTTYPE=image/jpeg:https://safertn.org/wp-content/uploads/2026/03/2
 026-Baby-kids-Fair-Flyer-9x12-2_page-0001.jpg
CATEGORIES:Attending
LOCATION:Baptist Women's Hospital\, 6225 Humphreys Blvd\, Memphis\, TN\, 38
 120\, United States
GEO:35.127867;-89.855611
X-APPLE-STRUCTURED-LOCATION;VALUE=URI;X-ADDRESS=6225 Humphreys Blvd\, Memph
 is\, TN\, 38120\, United States;X-APPLE-RADIUS=100;X-TITLE=Baptist Women's
  Hospital:geo:35.127867,-89.855611
END:VEVENT
BEGIN:VTIMEZONE
TZID:America/Chicago
X-LIC-LOCATION:America/Chicago
BEGIN:DAYLIGHT
DTSTART:20260308T030000
TZOFFSETFROM:-0600
TZOFFSETTO:-0500
TZNAME:CDT
END:DAYLIGHT
END:VTIMEZONE
END:VCALENDAR