BEGIN:VCALENDAR
VERSION:2.0
PRODID:-//wp-events-plugin.com//7.2.3.1//EN
TZID:America/Chicago
X-WR-TIMEZONE:America/Chicago
BEGIN:VEVENT
UID:128@safertn.org
DTSTART;TZID=America/Chicago:20260521T103000
DTEND;TZID=America/Chicago:20260521T143000
DTSTAMP:20260410T162252Z
URL:https://safertn.org/events/downtown-ymca-tabling-2/
SUMMARY:Downtown YMCA Tabling
DESCRIPTION:Meet us at the downtown Chattanooga branch of the YMCA to talk 
 all things Safer TN. We will be tabling from 10:30pm to 2:30pm ET and offe
 ring free resources such as cable locks\, organization informational cards
 \, coloring sheets and more.\n\n[sc name="2026downtownchatymca"][/sc]\n\n&
 nbsp\;
ATTACH;FMTTYPE=image/jpeg:https://safertn.org/wp-content/uploads/2026/02/y
 mca-logo-blue.png
CATEGORIES:Attending
LOCATION:Downtown YMCA\, 301 West 6th Street\, Chattanooga\, TN\, 37402\, U
 nited States
GEO:35.050472;-85.313393
X-APPLE-STRUCTURED-LOCATION;VALUE=URI;X-ADDRESS=301 West 6th Street\, Chatt
 anooga\, TN\, 37402\, United States;X-APPLE-RADIUS=100;X-TITLE=Downtown YM
 CA:geo:35.050472,-85.313393
END:VEVENT
BEGIN:VTIMEZONE
TZID:America/Chicago
X-LIC-LOCATION:America/Chicago
BEGIN:DAYLIGHT
DTSTART:20260308T030000
TZOFFSETFROM:-0600
TZOFFSETTO:-0500
TZNAME:CDT
END:DAYLIGHT
END:VTIMEZONE
END:VCALENDAR