BEGIN:VCALENDAR
VERSION:2.0
PRODID:-//wp-events-plugin.com//7.2.3.1//EN
TZID:America/Chicago
X-WR-TIMEZONE:America/Chicago
BEGIN:VEVENT
UID:91@safertn.org
DTSTART;TZID=America/New_York:20251205T120000
DTEND;TZID=America/New_York:20251205T130000
DTSTAMP:20251120T171240Z
URL:https://safertn.org/events/east-brainerd-kiwanis-club/
SUMMARY:East Brainerd Kiwanis Club
DESCRIPTION:Safer TN presents to the East Brainerd Kiwanis Club.
LOCATION:Location: East Brainerd Church of Christ\, 7745 E Brainerd Rd\, Ch
 attanooga\, United States
GEO:35.011495;-85.154094
X-APPLE-STRUCTURED-LOCATION;VALUE=URI;X-ADDRESS=7745 E Brainerd Rd\, Chatta
 nooga\, United States;X-APPLE-RADIUS=100;X-TITLE=Location: East Brainerd C
 hurch of Christ:geo:35.011495,-85.154094
END:VEVENT
BEGIN:VTIMEZONE
TZID:America/New_York
X-LIC-LOCATION:America/New_York
BEGIN:STANDARD
DTSTART:20251102T010000
TZOFFSETFROM:-0400
TZOFFSETTO:-0500
TZNAME:EST
END:STANDARD
END:VTIMEZONE
END:VCALENDAR