BEGIN:VCALENDAR
VERSION:2.0
PRODID:-//wp-events-plugin.com//7.2.3.1//EN
TZID:America/Chicago
X-WR-TIMEZONE:America/Chicago
BEGIN:VEVENT
UID:125@safertn.org
DTSTART;TZID=America/Chicago:20260423T180000
DTEND;TZID=America/Chicago:20260423T190000
DTSTAMP:20260224T215641Z
URL:https://safertn.org/events/glenwood-neighborhood-association/
SUMMARY:Glenwood Neighborhood Association
DESCRIPTION:Safer TN presents to the Glenwood Neighborhood Association memb
 ers.
ATTACH;FMTTYPE=image/jpeg:https://safertn.org/wp-content/uploads/2026/02/g
 lenwood-hoa-logo.jpg
CATEGORIES:Attending
LOCATION:Glenwood Community Center\, 2610 E 3rd Street\, Chattanooga\, TN\,
  37404\, United States
GEO:35.036445;-85.260162
X-APPLE-STRUCTURED-LOCATION;VALUE=URI;X-ADDRESS=2610 E 3rd Street\, Chattan
 ooga\, TN\, 37404\, United States;X-APPLE-RADIUS=100;X-TITLE=Glenwood Comm
 unity Center:geo:35.036445,-85.260162
END:VEVENT
BEGIN:VTIMEZONE
TZID:America/Chicago
X-LIC-LOCATION:America/Chicago
BEGIN:DAYLIGHT
DTSTART:20260308T030000
TZOFFSETFROM:-0600
TZOFFSETTO:-0500
TZNAME:CDT
END:DAYLIGHT
END:VTIMEZONE
END:VCALENDAR