BEGIN:VCALENDAR
VERSION:2.0
PRODID:-//wp-events-plugin.com//7.2.3.1//EN
TZID:America/Chicago
X-WR-TIMEZONE:America/Chicago
BEGIN:VEVENT
UID:174@safertn.org
DTSTART;TZID=America/New_York:20260509T140000
DTEND;TZID=America/New_York:20260509T220000
DTSTAMP:20260421T171706Z
URL:https://safertn.org/events/holleroo/
SUMMARY:Holleroo
DESCRIPTION:[sc name="050926holleroo" ][/sc]
ATTACH;FMTTYPE=image/jpeg:https://safertn.org/wp-content/uploads/2026/04/h
 ollertown.png
CATEGORIES:Attending
LOCATION:Happy Holler\, Central Avenue\, Knoxville\, TN\, 37917\, East\, Un
 ited States
GEO:35.966125;-83.916294
X-APPLE-STRUCTURED-LOCATION;VALUE=URI;X-ADDRESS=Central Avenue\, Knoxville\
 , TN\, 37917\, East\, United States;X-APPLE-RADIUS=100;X-TITLE=Happy Holle
 r:geo:35.966125,-83.916294
END:VEVENT
BEGIN:VTIMEZONE
TZID:America/New_York
X-LIC-LOCATION:America/New_York
BEGIN:DAYLIGHT
DTSTART:20260308T030000
TZOFFSETFROM:-0500
TZOFFSETTO:-0400
TZNAME:EDT
END:DAYLIGHT
END:VTIMEZONE
END:VCALENDAR