BEGIN:VCALENDAR
VERSION:2.0
PRODID:-//wp-events-plugin.com//7.2.3.1//EN
TZID:America/Chicago
X-WR-TIMEZONE:America/Chicago
BEGIN:VEVENT
UID:171@safertn.org
DTSTART;TZID=America/New_York:20260423T100000
DTEND;TZID=America/New_York:20260423T130000
DTSTAMP:20260421T171400Z
URL:https://safertn.org/events/kids-family-resource-fair/
SUMMARY:Kids & Family Resource Fair
DESCRIPTION:Safer TN will be at this free event providing free resources an
 d information about firearm safety.\n\n[sc name="042326kidsresourcefair"][
 /sc]
ATTACH;FMTTYPE=image/jpeg:https://safertn.org/wp-content/uploads/2026/04/K
 ids-Family-Resource-Fair-Newport.jpg
CATEGORIES:Attending
LOCATION:Newport City Park\, 100 City Park\, Newport\, TN\, 37821\, United 
 States
GEO:35.978981;-83.186398
X-APPLE-STRUCTURED-LOCATION;VALUE=URI;X-ADDRESS=100 City Park\, Newport\, T
 N\, 37821\, United States;X-APPLE-RADIUS=100;X-TITLE=Newport City Park:geo
 :35.978981,-83.186398
END:VEVENT
BEGIN:VTIMEZONE
TZID:America/New_York
X-LIC-LOCATION:America/New_York
BEGIN:DAYLIGHT
DTSTART:20260308T030000
TZOFFSETFROM:-0500
TZOFFSETTO:-0400
TZNAME:EDT
END:DAYLIGHT
END:VTIMEZONE
END:VCALENDAR