BEGIN:VCALENDAR
VERSION:2.0
PRODID:-//wp-events-plugin.com//7.2.3.1//EN
TZID:America/Chicago
X-WR-TIMEZONE:America/Chicago
BEGIN:VEVENT
UID:145@safertn.org
DTSTART;TZID=America/Chicago:20260423T080000
DTEND;TZID=America/Chicago:20260423T090000
DTSTAMP:20260410T160434Z
URL:https://safertn.org/events/monteagle-sewanee-rotary-club/
SUMMARY:Monteagle-Sewanee Rotary Club
DESCRIPTION:Members.\n\nThe Monteagle-Sewanee Rotary has served the greater
  community through a variety of projects since 1984. Join us Thursday morn
 ings at 8 at the Sewanee Inn. Safer TN will be presenting to the Monteagle
 -Sewanee Rotary Club.
ATTACH;FMTTYPE=image/jpeg:https://safertn.org/wp-content/uploads/2026/02/u
 nnamed-4.jpg
CATEGORIES:Attending
LOCATION:The Sewanee Inn\, 1235 University Ave\, Sewanee\, TN\, 37375\, Uni
 ted States
GEO:35.209242;-85.914175
X-APPLE-STRUCTURED-LOCATION;VALUE=URI;X-ADDRESS=1235 University Ave\, Sewan
 ee\, TN\, 37375\, United States;X-APPLE-RADIUS=100;X-TITLE=The Sewanee Inn
 :geo:35.209242,-85.914175
END:VEVENT
BEGIN:VTIMEZONE
TZID:America/Chicago
X-LIC-LOCATION:America/Chicago
BEGIN:DAYLIGHT
DTSTART:20260308T030000
TZOFFSETFROM:-0600
TZOFFSETTO:-0500
TZNAME:CDT
END:DAYLIGHT
END:VTIMEZONE
END:VCALENDAR