BEGIN:VCALENDAR
VERSION:2.0
PRODID:-//wp-events-plugin.com//7.2.3.1//EN
TZID:America/Chicago
X-WR-TIMEZONE:America/Chicago
BEGIN:VEVENT
UID:176@safertn.org
DTSTART;TZID=America/New_York:20260711T090000
DTEND;TZID=America/New_York:20260711T170000
DTSTAMP:20260421T172055Z
URL:https://safertn.org/events/mountain-city-sunflower-festival/
SUMMARY:Mountain City Sunflower Festival
DESCRIPTION:Safer TN is excited to be part of this community event in Mount
 ain City! We will be there to distribute free resources and information ab
 out firearm safety.\n\n[sc name="071126sunflowerfest"][/sc]
ATTACH;FMTTYPE=image/jpeg:https://safertn.org/wp-content/uploads/2026/04/m
 ountain-city-sunflowers.png
CATEGORIES:Attending
LOCATION:Mountain City Fairgrounds\, 290 Fairground Ln.\, Mountain City\, T
 N\, 37683\, East\, United States
GEO:36.479759;-81.79705
X-APPLE-STRUCTURED-LOCATION;VALUE=URI;X-ADDRESS=290 Fairground Ln.\, Mounta
 in City\, TN\, 37683\, East\, United States;X-APPLE-RADIUS=100;X-TITLE=Mou
 ntain City Fairgrounds:geo:36.479759,-81.79705
END:VEVENT
BEGIN:VTIMEZONE
TZID:America/New_York
X-LIC-LOCATION:America/New_York
BEGIN:DAYLIGHT
DTSTART:20260308T030000
TZOFFSETFROM:-0500
TZOFFSETTO:-0400
TZNAME:EDT
END:DAYLIGHT
END:VTIMEZONE
END:VCALENDAR