BEGIN:VCALENDAR
VERSION:2.0
PRODID:-//wp-events-plugin.com//7.2.3.1//EN
TZID:America/Chicago
X-WR-TIMEZONE:America/Chicago
BEGIN:VEVENT
UID:57@safertn.org
DTSTART;TZID=America/Chicago:20251004T090000
DTEND;TZID=America/Chicago:20251004T180000
DTSTAMP:20250908T154921Z
URL:https://safertn.org/events/national-banana-pudding-festival/
SUMMARY:National Banana Pudding Festival
DESCRIPTION:Safer TN will have a table at the National Banana Pudding Festi
 val\, which started in 2010 when volunteers in Centerville\, Tennessee fou
 nd a way to help local non-profits earn money.\n\nThe festival has grown e
 very year since then\, but the mission to support non-profits remains the 
 same. Thousands of people come to Centerville\, TN on the first Sat+Sun of
  October every year to enjoy the live music\, the national cook-off\, the 
 Puddin' Path\, and more.
ATTACH;FMTTYPE=image/jpeg:https://safertn.org/wp-content/uploads/2025/09/S
 creenshot-2025-09-08-at-10.48.35-AM.png
CATEGORIES:Attending
LOCATION:AG Pavilion\, Upper Shipps Bend Rd\, Centerville\, United States
GEO:35.789726;-87.491037
X-APPLE-STRUCTURED-LOCATION;VALUE=URI;X-ADDRESS=Upper Shipps Bend Rd\, Cent
 erville\, United States;X-APPLE-RADIUS=100;X-TITLE=AG Pavilion:geo:35.7897
 26,-87.491037
END:VEVENT
BEGIN:VTIMEZONE
TZID:America/Chicago
X-LIC-LOCATION:America/Chicago
BEGIN:DAYLIGHT
DTSTART:20250309T030000
TZOFFSETFROM:-0600
TZOFFSETTO:-0500
TZNAME:CDT
END:DAYLIGHT
END:VTIMEZONE
END:VCALENDAR