BEGIN:VCALENDAR
VERSION:2.0
PRODID:-//wp-events-plugin.com//7.2.3.1//EN
TZID:America/Chicago
X-WR-TIMEZONE:America/Chicago
BEGIN:VEVENT
UID:55@safertn.org
DTSTART;TZID=America/Chicago:20250920T090000
DTEND;TZID=America/Chicago:20250920T160000
DTSTAMP:20250908T155642Z
URL:https://safertn.org/events/newbern-depot-days/
SUMMARY:Newbern Depot Days
DESCRIPTION:The city of Newbern celebrates the long-running history of its 
 railroad during the Depot Days.\n\nCentered around the preservation of the
  Historic Newbern Depot and strongly supported by the local community\, th
 is annual event is a month-long commemoration that begins on the third Sat
 urday of September.\n\nSafer TN will have a table at the event on Septembe
 r 20. 
ATTACH;FMTTYPE=image/jpeg:https://safertn.org/wp-content/uploads/2025/09/U
 nknown-2.jpeg
CATEGORIES:Attending
LOCATION:Newbern Depot Days\, 108 Jefferson St\, Newbern\, United States
GEO:36.112525;-89.262449
X-APPLE-STRUCTURED-LOCATION;VALUE=URI;X-ADDRESS=108 Jefferson St\, Newbern\
 , United States;X-APPLE-RADIUS=100;X-TITLE=Newbern Depot Days:geo:36.11252
 5,-89.262449
END:VEVENT
BEGIN:VTIMEZONE
TZID:America/Chicago
X-LIC-LOCATION:America/Chicago
BEGIN:DAYLIGHT
DTSTART:20250309T030000
TZOFFSETFROM:-0600
TZOFFSETTO:-0500
TZNAME:CDT
END:DAYLIGHT
END:VTIMEZONE
END:VCALENDAR