BEGIN:VCALENDAR
VERSION:2.0
PRODID:-//wp-events-plugin.com//7.2.3.1//EN
TZID:America/Chicago
X-WR-TIMEZONE:America/Chicago
BEGIN:VEVENT
UID:175@safertn.org
DTSTART;TZID=America/New_York:20260520T113000
DTEND;TZID=America/New_York:20260520T123000
DTSTAMP:20260421T171757Z
URL:https://safertn.org/events/nonprofit-council-of-the-oak-ridge-chamber-
 of-commerce/
SUMMARY:Nonprofit Council of the Oak Ridge Chamber of Commerce
DESCRIPTION:
ATTACH;FMTTYPE=image/jpeg:https://safertn.org/wp-content/uploads/2026/04/o
 ak-ridge-coc.png
CATEGORIES:Attending
LOCATION:Oak Ridge Chamber of Commerce\, 1400 Oak Ridge Turnpike\, Oak Ridg
 e\, TN\, 37830\, East\, United States
GEO:36.01475;-84.258553
X-APPLE-STRUCTURED-LOCATION;VALUE=URI;X-ADDRESS=1400 Oak Ridge Turnpike\, O
 ak Ridge\, TN\, 37830\, East\, United States;X-APPLE-RADIUS=100;X-TITLE=Oa
 k Ridge Chamber of Commerce:geo:36.01475,-84.258553
END:VEVENT
BEGIN:VTIMEZONE
TZID:America/New_York
X-LIC-LOCATION:America/New_York
BEGIN:DAYLIGHT
DTSTART:20260308T030000
TZOFFSETFROM:-0500
TZOFFSETTO:-0400
TZNAME:EDT
END:DAYLIGHT
END:VTIMEZONE
END:VCALENDAR