BEGIN:VCALENDAR
VERSION:2.0
PRODID:-//wp-events-plugin.com//7.2.3.1//EN
TZID:America/Chicago
X-WR-TIMEZONE:America/Chicago
BEGIN:VEVENT
UID:138@safertn.org
DTSTART;TZID=America/New_York:20260416T090000
DTEND;TZID=America/New_York:20260416T150000
DTSTAMP:20260410T160152Z
URL:https://safertn.org/events/rural-health-association-regional-middle-tn
 -event/
SUMMARY:Rural Health Association Regional Middle TN Event
DESCRIPTION:Anyone!\n\nMeet us at The University of the South to talk all t
 hings Safer TN at the Rural Health Association Middle TN Event. We will be
  tabling from 9:00am to 3:00pm CT and offering free resources such as cabl
 e locks\, organizational information cards\, coloring sheets and more. We 
 will also have a guest speaker presenting from 12-1 CT.\n\n[sc name="2026r
 uralhealthassociationmiddletnevent" ][/sc]
ATTACH;FMTTYPE=image/jpeg:https://safertn.org/wp-content/uploads/2026/03/u
 nnamed-3.png
CATEGORIES:Attending
LOCATION:The University of the South\, 336 Tennessee Ave\, Sewanee\, TN\, 3
 7375\, United States
GEO:35.198848;-85.924935
X-APPLE-STRUCTURED-LOCATION;VALUE=URI;X-ADDRESS=336 Tennessee Ave\, Sewanee
 \, TN\, 37375\, United States;X-APPLE-RADIUS=100;X-TITLE=The University of
  the South:geo:35.198848,-85.924935
END:VEVENT
BEGIN:VTIMEZONE
TZID:America/New_York
X-LIC-LOCATION:America/New_York
BEGIN:DAYLIGHT
DTSTART:20260308T030000
TZOFFSETFROM:-0500
TZOFFSETTO:-0400
TZNAME:EDT
END:DAYLIGHT
END:VTIMEZONE
END:VCALENDAR