BEGIN:VCALENDAR
VERSION:2.0
PRODID:-//wp-events-plugin.com//7.2.3.1//EN
TZID:America/Chicago
X-WR-TIMEZONE:America/Chicago
BEGIN:VEVENT
UID:95@safertn.org
DTSTART;TZID=America/New_York:20260129T173000
DTEND;TZID=America/New_York:20260129T193000
DTSTAMP:20260129T021653Z
URL:https://safertn.org/events/session-kickoff-reception-2026/
SUMMARY:2026 Session Kickoff Reception
DESCRIPTION:[sc name="2026sessionkickoffreception" ][/sc]
ATTACH;FMTTYPE=image/jpeg:https://safertn.org/wp-content/uploads/2025/12/3
 60x510-Save-the-Date-Session-Kickoff-Reception-2026-2.jpg
CATEGORIES:Sponsored Event
LOCATION:Chattanooga Golf and Country Club\, 1511 Riverviw Road\, Chattanoo
 ga\, TN\, 37405\, Southeast\, United States
GEO:35.064939;-85.281947
X-APPLE-STRUCTURED-LOCATION;VALUE=URI;X-ADDRESS=1511 Riverviw Road\, Chatta
 nooga\, TN\, 37405\, Southeast\, United States;X-APPLE-RADIUS=100;X-TITLE=
 Chattanooga Golf and Country Club:geo:35.064939,-85.281947
END:VEVENT
BEGIN:VTIMEZONE
TZID:America/New_York
X-LIC-LOCATION:America/New_York
BEGIN:STANDARD
DTSTART:20251102T010000
TZOFFSETFROM:-0400
TZOFFSETTO:-0500
TZNAME:EST
END:STANDARD
END:VTIMEZONE
END:VCALENDAR