BEGIN:VCALENDAR
VERSION:2.0
PRODID:-//wp-events-plugin.com//7.2.3.1//EN
TZID:America/Chicago
X-WR-TIMEZONE:America/Chicago
BEGIN:VEVENT
UID:169@safertn.org
DTSTART;TZID=America/New_York:20260627T160000
DTEND;TZID=America/New_York:20260627T220000
DTSTAMP:20260410T163942Z
URL:https://safertn.org/events/tellico-plains-kiwanis-red-white-boom/
SUMMARY:Tellico Plains Kiwanis Red White & Boom
DESCRIPTION:Details: This fun-filled\, family-friendly festival offers:\n\n
 \n 	Free admission and free parking\n 	Live music throughout the day\n 	Ki
 ds Zone with carousel rides and activities\n 	Arts &amp\; crafts vendors a
 nd food trucks\n 	A spectacular fireworks show at dusk\n\n[sc name="2026te
 llicoplainssf"][/sc]
ATTACH;FMTTYPE=image/jpeg:https://safertn.org/wp-content/uploads/2026/04/t
 ellico-plains-rwboom.jpeg
CATEGORIES:Attending
LOCATION:Historic Town Square\, 229 Cherohala Skyway\, Tellico Plains\, TN\
 , 37385\, Middle\, United States
GEO:35.3667;-84.296956
X-APPLE-STRUCTURED-LOCATION;VALUE=URI;X-ADDRESS=229 Cherohala Skyway\, Tell
 ico Plains\, TN\, 37385\, Middle\, United States;X-APPLE-RADIUS=100;X-TITL
 E=Historic Town Square:geo:35.3667,-84.296956
END:VEVENT
BEGIN:VTIMEZONE
TZID:America/New_York
X-LIC-LOCATION:America/New_York
BEGIN:DAYLIGHT
DTSTART:20260308T030000
TZOFFSETFROM:-0500
TZOFFSETTO:-0400
TZNAME:EDT
END:DAYLIGHT
END:VTIMEZONE
END:VCALENDAR