BEGIN:VCALENDAR
VERSION:2.0
PRODID:-//wp-events-plugin.com//7.2.3.1//EN
TZID:America/Chicago
X-WR-TIMEZONE:America/Chicago
BEGIN:VEVENT
UID:124@safertn.org
DTSTART;TZID=America/Detroit:20260317T090000
DTEND;TZID=America/Detroit:20260317T100000
DTSTAMP:20260224T183253Z
URL:https://safertn.org/events/tellico-village-lions-club/
SUMMARY:Tellico Village Lions Club
DESCRIPTION:Safer TN presents to the Tellico Village Lions Club.
ATTACH;FMTTYPE=image/jpeg:https://safertn.org/wp-content/uploads/2026/02/i
 mage-7.png
CATEGORIES:Attending
LOCATION:Shepard of the Lake Lutheran Church\, 143 Chota Ctr\, Loudon\, Uni
 ted States
GEO:35.693035;-84.262654
X-APPLE-STRUCTURED-LOCATION;VALUE=URI;X-ADDRESS=143 Chota Ctr\, Loudon\, Un
 ited States;X-APPLE-RADIUS=100;X-TITLE=Shepard of the Lake Lutheran Church
 :geo:35.693035,-84.262654
END:VEVENT
BEGIN:VTIMEZONE
TZID:America/Detroit
X-LIC-LOCATION:America/Detroit
BEGIN:DAYLIGHT
DTSTART:20260308T030000
TZOFFSETFROM:-0500
TZOFFSETTO:-0400
TZNAME:EDT
END:DAYLIGHT
END:VTIMEZONE
END:VCALENDAR