BEGIN:VCALENDAR
VERSION:2.0
PRODID:-//wp-events-plugin.com//7.2.3.1//EN
TZID:America/Chicago
X-WR-TIMEZONE:America/Chicago
BEGIN:VEVENT
UID:156@safertn.org
DTSTART;TZID=America/New_York:20260430T190000
DTEND;TZID=America/New_York:20260430T210000
DTSTAMP:20260421T183708Z
URL:https://safertn.org/events/tn-iris-festival-parade/
SUMMARY:TN Iris Festival Parade
DESCRIPTION:Celebrate the TN Iris Festival in Dresden\, Tennessee! Voices f
 or a Safer TN will be in the parade passing out firearm safety information
  and candy!\n\n[sc name="2026tnirisfestivalparade" ][/sc]\n\n\n\n\n
ATTACH;FMTTYPE=image/jpeg:https://safertn.org/wp-content/uploads/2026/03/t
 n-iris-festival-logo.jpg
CATEGORIES:Attending
LOCATION:First Baptist Church\, 490 Morrow St\, Dresden\, TN\, 38225\, Unit
 ed States
GEO:36.283605;-88.716056
X-APPLE-STRUCTURED-LOCATION;VALUE=URI;X-ADDRESS=490 Morrow St\, Dresden\, T
 N\, 38225\, United States;X-APPLE-RADIUS=100;X-TITLE=First Baptist Church:
 geo:36.283605,-88.716056
END:VEVENT
BEGIN:VTIMEZONE
TZID:America/New_York
X-LIC-LOCATION:America/New_York
BEGIN:DAYLIGHT
DTSTART:20260308T030000
TZOFFSETFROM:-0500
TZOFFSETTO:-0400
TZNAME:EDT
END:DAYLIGHT
END:VTIMEZONE
END:VCALENDAR