BEGIN:VCALENDAR
VERSION:2.0
PRODID:-//wp-events-plugin.com//7.2.3.1//EN
TZID:America/Chicago
X-WR-TIMEZONE:America/Chicago
BEGIN:VEVENT
UID:79@safertn.org
DTSTART;TZID=America/Chicago:20251022T110000
DTEND;TZID=America/Chicago:20251022T190000
DTSTAMP:20251009T015514Z
URL:https://safertn.org/events/veronica-beard-shopping-event/
SUMMARY:Veronica Beard Shopping Event
DESCRIPTION:Veronica Beard shopping event benefitting Voices for a SaferTN.
  Shop the Fall Collection and new mahjong sets from The Mahjong Line with 
 15% of the proceeds donated to Voices for a Safer TN.\n\n&nbsp\;\n\n\n \n 
 \n \n \n
ATTACH;FMTTYPE=image/jpeg:https://safertn.org/wp-content/uploads/2025/10/S
 creen-Shot-2025-10-07-at-7.35.29-PM.png
CATEGORIES:Attending
LOCATION:Veronica Beard\, 4017 Hillsboro Pike #309a\, Nashville\, Tennessee
 \, 37215\, United States
GEO:36.103632;-86.818569
X-APPLE-STRUCTURED-LOCATION;VALUE=URI;X-ADDRESS=4017 Hillsboro Pike #309a\,
  Nashville\, Tennessee\, 37215\, United States;X-APPLE-RADIUS=100;X-TITLE=
 Veronica Beard:geo:36.103632,-86.818569
END:VEVENT
BEGIN:VTIMEZONE
TZID:America/Chicago
X-LIC-LOCATION:America/Chicago
BEGIN:DAYLIGHT
DTSTART:20250309T030000
TZOFFSETFROM:-0600
TZOFFSETTO:-0500
TZNAME:CDT
END:DAYLIGHT
END:VTIMEZONE
END:VCALENDAR