BEGIN:VCALENDAR
VERSION:2.0
PRODID:-//wp-events-plugin.com//7.2.3.1//EN
TZID:America/Chicago
X-WR-TIMEZONE:America/Chicago
BEGIN:VEVENT
UID:177@safertn.org
DTSTART;TZID=America/Chicago:20260508T000000
DTEND;TZID=America/Chicago:20260508T000000
DTSTAMP:20260421T211843Z
URL:https://safertn.org/events/west-tn-strawberry-festival-parade/
SUMMARY:West TN Strawberry Festival Parade
DESCRIPTION:[sc name="050826westtnstrawberryfestparade"][/sc]
ATTACH;FMTTYPE=image/jpeg:https://safertn.org/wp-content/uploads/2026/04/w
 est-tn-strawberry-festival-parade.png
CATEGORIES:Attending
LOCATION:Humboldt Main Street\, 1814 E Main St\, Humboldt\, TN\, 38343\, We
 st\, United States
GEO:35.819396;-88.911249
X-APPLE-STRUCTURED-LOCATION;VALUE=URI;X-ADDRESS=1814 E Main St\, Humboldt\,
  TN\, 38343\, West\, United States;X-APPLE-RADIUS=100;X-TITLE=Humboldt Mai
 n Street:geo:35.819396,-88.911249
END:VEVENT
BEGIN:VTIMEZONE
TZID:America/Chicago
X-LIC-LOCATION:America/Chicago
BEGIN:DAYLIGHT
DTSTART:20260308T030000
TZOFFSETFROM:-0600
TZOFFSETTO:-0500
TZNAME:CDT
END:DAYLIGHT
END:VTIMEZONE
END:VCALENDAR