BEGIN:VCALENDAR
VERSION:2.0
PRODID:-//wp-events-plugin.com//7.2.3.1//EN
TZID:America/Chicago
X-WR-TIMEZONE:America/Chicago
BEGIN:VEVENT
UID:99@safertn.org
DTSTART;TZID=America/Detroit:20260212T093000
DTEND;TZID=America/Detroit:20260212T133000
DTSTAMP:20260127T154658Z
URL:https://safertn.org/events/ymca-tabling/
SUMMARY:YMCA Tabling
DESCRIPTION:For YMCA members: Meet us at the downtown Chattanooga branch of
  the YMCA to talk all things Safer TN. We will be tabling from 9:30pm to 1
 :30pm ET and offering free resources such as cable locks\, organization in
 formational cards\, coloring sheets and more.
ATTACH;FMTTYPE=image/jpeg:https://safertn.org/wp-content/uploads/2026/01/i
 mage-3.jpeg
CATEGORIES:Attending
LOCATION:Downtown Family YMCA\, 301 W 6th St\, Chattanooga\, United States
GEO:35.050472;-85.313393
X-APPLE-STRUCTURED-LOCATION;VALUE=URI;X-ADDRESS=301 W 6th St\, Chattanooga\
 , United States;X-APPLE-RADIUS=100;X-TITLE=Downtown Family YMCA:geo:35.050
 472,-85.313393
END:VEVENT
BEGIN:VTIMEZONE
TZID:America/Detroit
X-LIC-LOCATION:America/Detroit
BEGIN:STANDARD
DTSTART:20251102T010000
TZOFFSETFROM:-0400
TZOFFSETTO:-0500
TZNAME:EST
END:STANDARD
END:VTIMEZONE
END:VCALENDAR